BEGIN:VCALENDAR
VERSION:2.0
PRODID:eppletonacademyprimary.co.uk
X-PUBLISHED-TTL:P1W
BEGIN:VEVENT
UID:2591776763946
DTSTART:20210906T084500
SEQUENCE:0
TRANSP:OPAQUE
DTEND:20210906T000000
LOCATION:Eppleton Academy Primary School
SUMMARY:Eppleton Academy Primary School - Back to School 2021
CLASS:PUBLIC
DESCRIPTION:Back to School 2021
ORGANIZER:Eppleton Academy Primary School <office@eppletonacademyprimary.co.uk>
DTSTAMP:20260421T103226
END:VEVENT
END:VCALENDAR